BEGIN:VCALENDAR
VERSION:2.0
PRODID:-//LIHUE LUTHERAN CHURCH - ECPv6.15.20//NONSGML v1.0//EN
CALSCALE:GREGORIAN
METHOD:PUBLISH
X-ORIGINAL-URL:https://lihuelutheranchurch.com
X-WR-CALDESC:Events for LIHUE LUTHERAN CHURCH
REFRESH-INTERVAL;VALUE=DURATION:PT1H
X-Robots-Tag:noindex
X-PUBLISHED-TTL:PT1H
BEGIN:VTIMEZONE
TZID:Pacific/Honolulu
BEGIN:STANDARD
TZOFFSETFROM:-1000
TZOFFSETTO:-1000
TZNAME:HST
DTSTART:20250101T000000
END:STANDARD
END:VTIMEZONE
BEGIN:VEVENT
DTSTART;TZID=Pacific/Honolulu:20260320T180000
DTEND;TZID=Pacific/Honolulu:20260320T200000
DTSTAMP:20260420T081847
CREATED:20260314T075457Z
LAST-MODIFIED:20260314T075457Z
UID:3993-1774029600-1774036800@lihuelutheranchurch.com
SUMMARY:03/20 - Friday Fish Fry
DESCRIPTION:All are welcome!
URL:https://lihuelutheranchurch.com/event/03-20-friday-fish-fry/
LOCATION:Lihue Lutheran Church: Fellowship Hall\, 4602 Hoomana Road\, Lihue\, 96766
END:VEVENT
END:VCALENDAR