BEGIN:VCALENDAR
VERSION:2.0
PRODID:-//LIHUE LUTHERAN CHURCH - ECPv6.15.20//NONSGML v1.0//EN
CALSCALE:GREGORIAN
METHOD:PUBLISH
X-WR-CALNAME:LIHUE LUTHERAN CHURCH
X-ORIGINAL-URL:https://lihuelutheranchurch.com
X-WR-CALDESC:Events for LIHUE LUTHERAN CHURCH
REFRESH-INTERVAL;VALUE=DURATION:PT1H
X-Robots-Tag:noindex
X-PUBLISHED-TTL:PT1H
BEGIN:VTIMEZONE
TZID:Pacific/Honolulu
BEGIN:STANDARD
TZOFFSETFROM:-1000
TZOFFSETTO:-1000
TZNAME:HST
DTSTART:20240101T000000
END:STANDARD
END:VTIMEZONE
BEGIN:VEVENT
DTSTART;TZID=Pacific/Honolulu:20251108T090000
DTEND;TZID=Pacific/Honolulu:20251108T130000
DTSTAMP:20260420T072314
CREATED:20251030T220627Z
LAST-MODIFIED:20251030T220627Z
UID:3850-1762592400-1762606800@lihuelutheranchurch.com
SUMMARY:Craft Fair
DESCRIPTION:
URL:https://lihuelutheranchurch.com/event/craft-fair/
LOCATION:Lihue Lutheran Church: Fellowship Hall\, 4602 Hoomana Road\, Lihue\, 96766
END:VEVENT
END:VCALENDAR