BEGIN:VCALENDAR
VERSION:2.0
PRODID:-//LIHUE LUTHERAN CHURCH - ECPv6.15.20//NONSGML v1.0//EN
CALSCALE:GREGORIAN
METHOD:PUBLISH
X-WR-CALNAME:LIHUE LUTHERAN CHURCH
X-ORIGINAL-URL:https://lihuelutheranchurch.com
X-WR-CALDESC:Events for LIHUE LUTHERAN CHURCH
REFRESH-INTERVAL;VALUE=DURATION:PT1H
X-Robots-Tag:noindex
X-PUBLISHED-TTL:PT1H
BEGIN:VTIMEZONE
TZID:Pacific/Honolulu
BEGIN:STANDARD
TZOFFSETFROM:-1000
TZOFFSETTO:-1000
TZNAME:HST
DTSTART:20240101T000000
END:STANDARD
END:VTIMEZONE
BEGIN:VEVENT
DTSTART;TZID=Pacific/Honolulu:20251123T101500
DTEND;TZID=Pacific/Honolulu:20251123T111500
DTSTAMP:20260420T021319
CREATED:20251030T223030Z
LAST-MODIFIED:20251107T030500Z
UID:3866-1763892900-1763896500@lihuelutheranchurch.com
SUMMARY:Congregational Meeting
DESCRIPTION:Agenda: Nominations for two vacancies on the church council + 2026 Budget
URL:https://lihuelutheranchurch.com/event/congregational-meeting/
LOCATION:Lihue Lutheran Church: Fellowship Hall\, 4602 Hoomana Road\, Lihue\, 96766
END:VEVENT
END:VCALENDAR